BEGIN:VCALENDAR
VERSION:2.0
PRODID:-//Sprouting Kitchen - ECPv6.15.17.1//NONSGML v1.0//EN
CALSCALE:GREGORIAN
METHOD:PUBLISH
X-ORIGINAL-URL:https://www.thesproutingkitchen.org
X-WR-CALDESC:Events for Sprouting Kitchen
REFRESH-INTERVAL;VALUE=DURATION:PT1H
X-Robots-Tag:noindex
X-PUBLISHED-TTL:PT1H
BEGIN:VTIMEZONE
TZID:America/Denver
BEGIN:DAYLIGHT
TZOFFSETFROM:-0700
TZOFFSETTO:-0600
TZNAME:MDT
DTSTART:20180311T090000
END:DAYLIGHT
BEGIN:STANDARD
TZOFFSETFROM:-0600
TZOFFSETTO:-0700
TZNAME:MST
DTSTART:20181104T080000
END:STANDARD
BEGIN:DAYLIGHT
TZOFFSETFROM:-0700
TZOFFSETTO:-0600
TZNAME:MDT
DTSTART:20190310T090000
END:DAYLIGHT
BEGIN:STANDARD
TZOFFSETFROM:-0600
TZOFFSETTO:-0700
TZNAME:MST
DTSTART:20191103T080000
END:STANDARD
BEGIN:DAYLIGHT
TZOFFSETFROM:-0700
TZOFFSETTO:-0600
TZNAME:MDT
DTSTART:20200308T090000
END:DAYLIGHT
BEGIN:STANDARD
TZOFFSETFROM:-0600
TZOFFSETTO:-0700
TZNAME:MST
DTSTART:20201101T080000
END:STANDARD
BEGIN:DAYLIGHT
TZOFFSETFROM:-0700
TZOFFSETTO:-0600
TZNAME:MDT
DTSTART:20210314T090000
END:DAYLIGHT
BEGIN:STANDARD
TZOFFSETFROM:-0600
TZOFFSETTO:-0700
TZNAME:MST
DTSTART:20211107T080000
END:STANDARD
BEGIN:DAYLIGHT
TZOFFSETFROM:-0700
TZOFFSETTO:-0600
TZNAME:MDT
DTSTART:20220313T090000
END:DAYLIGHT
BEGIN:STANDARD
TZOFFSETFROM:-0600
TZOFFSETTO:-0700
TZNAME:MST
DTSTART:20221106T080000
END:STANDARD
BEGIN:DAYLIGHT
TZOFFSETFROM:-0700
TZOFFSETTO:-0600
TZNAME:MDT
DTSTART:20230312T090000
END:DAYLIGHT
BEGIN:STANDARD
TZOFFSETFROM:-0600
TZOFFSETTO:-0700
TZNAME:MST
DTSTART:20231105T080000
END:STANDARD
BEGIN:DAYLIGHT
TZOFFSETFROM:-0700
TZOFFSETTO:-0600
TZNAME:MDT
DTSTART:20240310T090000
END:DAYLIGHT
BEGIN:STANDARD
TZOFFSETFROM:-0600
TZOFFSETTO:-0700
TZNAME:MST
DTSTART:20241103T080000
END:STANDARD
END:VTIMEZONE
BEGIN:VEVENT
DTSTART;TZID=America/Denver:20230813T080000
DTEND;TZID=America/Denver:20230813T110000
DTSTAMP:20260420T033847
CREATED:20230721T032425Z
LAST-MODIFIED:20230812T212745Z
UID:19694-1691913600-1691924400@www.thesproutingkitchen.org
SUMMARY:Blue Corn & Blackberry Pancake Brunch Cooking Class + optional Yoga at Cornelio Candelaria Organics Farm
DESCRIPTION:What the experience includes:\nOur cooking classes are a one-of-a-kind experience. You’ll be cooking a meal all focused on the farm’s produce we are visiting. We bring all the equipment to have a fully functioning kitchen on a farm! For this class\, you have the option to start the morning with a lovely yoga class on the farm! \n  \nWhat we’ll be cookin:\n\nBlue corn pancakes – we’ll use farmer Lorenzo’s roasted and fragrant blue corn flour to make truly delicious pancakes. Pancakes can be made vegan and/or gluten free!\nBlackberry compote – it’s the season for farm-fresh\, juicy blackberries! You’ll get a chance to pick berries and then cook them down to a sweet compote sauce.\nLocal NM Ferments kombucha will be available when you arrive at the farm\n\n  \nMore about Cornelio Candelaria Organics:\nThis historic farm is led by Lorenzo Candelaria\, a 7th generation\, Hispanic\, Native American\, farmer. Lorenzo is local-farm icon\, as he loves to impart his teachings of sustainability and mindfulness to everyone who visits his farm. His words of wisdom include “they grow many crops on the farm\, but harvest only one thing: consciousness”. An experience on Lorenzo’s farm is always special and unique. \nThe farm is located in the South Valley of Albuquerque (see below for address). \n  \nMore about Bhava Yoga:\nBhava Yoga Studio provides a mindful daily retreat where our community learns and explores the body-mind connection\, aligning us for a balanced life in the modern world.  Bhava’s studio is beautiful\, giving students of all ages and levels of experience a space to practice and learn the discipline of yoga. They are located in downtown ABQ\, but are lucky enough to have them join us on the farm to teach a class! \n  \nWho is this class for?\nThis class is for someone who wants a unique cooking experience. You’ll learn about local farms\, sustainability\, nutrition\, and cooking techniques. Our recipes focus on teaching you how to utilize and cook with seasonal produce\, but it doesn’t matter if you are a vegetarian\, vegan\, or carnivore – we all need to eat more plants! \nWhether you’re a beginner or more seasoned cook\, everyone can learn from our classes. We always have extra staff who can help with additional instruction if needed. \n  \nOur cancellation policy:\nCancellation: Should you need to cancel a reservation for this class\, you will receive credit towards another class for any cancellation made four (4) days or more before the class date. Due to class prep-time and food purchases\, cancellations made within three (3) business days of your class will not qualify for a refund or credit. The only exception is if you are sick (please stay home!)\, we can use our discretion. You must email us if you’d like to cancel and receive credit. Tickets are transferable\, you can have someone come in your place\, just please let us know. \nInclement weather: The Sprouting Kitchen reserves the right to cancel a class due to inclement weather or emergencies. If we need to cancel\, we will notify you by email (and phone if possible) to offer you a credit towards another class or a full refund. \n  \nA note on our costs:\nKids (under 12) are FREE  (up to 2 kids) – let us know when checking out how many kids (and ages) you are bringing. \nThe price of your ticket includes: \n\nWe pay our farm partners for their time\, knowledge\, and land stewardship.\nThe equipment and time associated with setting up a pop-up kitchen on a farm\nThe cost of purchasing the freshest\, regeneratively grown ingredients from local farmers\nRecipe development to make sure our recipes highlight local ingredients AND taste incredible\n\n**We offer FREE cooking classes and discounted tickets for lower-income folks\, email us to find out more.
URL:https://www.thesproutingkitchen.org/event/blue-corn-blackberry-pancake-brunch-cooking-class-optional-yoga-at-cornelio-candelaria-organics-farm/
LOCATION:Cornelio Candelaria Organics\, 505 Foothill Dr SW\, Albuquerque\, NM\, 87122\, United States
ATTACH;FMTTYPE=image/png:https://www.thesproutingkitchen.org/wp-content/uploads/2023/07/Plant-Based-Cuisine-Cooking-Class-2-e1689980030793.png
END:VEVENT
BEGIN:VEVENT
DTSTART;TZID=America/Denver:20190627T180000
DTEND;TZID=America/Denver:20190627T200000
DTSTAMP:20260420T033847
CREATED:20190602T200615Z
LAST-MODIFIED:20190621T232837Z
UID:4759-1561658400-1561665600@www.thesproutingkitchen.org
SUMMARY:Cornelio Candelaria Organics
DESCRIPTION:Lorenzo Candelaria\, of Cornelio Candelaria Organics\, is a 7th generation farmer. He brings unique history and wisdom  to the cooking classes. We will harvest fresh produce and then cook in the shade\, under a giant cottonwood tree overlooking the farm. \n 
URL:https://www.thesproutingkitchen.org/event/cornelio-candelaria-organics-4/
LOCATION:Cornelio Candelaria Organics\, 505 Foothill Dr SW\, Albuquerque\, NM\, 87122\, United States
ATTACH;FMTTYPE=image/jpeg:https://www.thesproutingkitchen.org/wp-content/uploads/2019/06/IMG_1960-e1561052535101.jpg
END:VEVENT
BEGIN:VEVENT
DTSTART;TZID=America/Denver:20190530T173000
DTEND;TZID=America/Denver:20190530T193000
DTSTAMP:20260420T033847
CREATED:20190521T184527Z
LAST-MODIFIED:20190521T185617Z
UID:4544-1559237400-1559244600@www.thesproutingkitchen.org
SUMMARY:Cornelio Candelaria Organics
DESCRIPTION:Lorenzo Candelaria\, of Cornelio Candelaria Organics\, is a 7th generation farmer who brings unique history\, wisdom\, and depth to the cooking classes. We will cook in the shade\, under a giant cottonwood tree overlooking the farm.
URL:https://www.thesproutingkitchen.org/event/cornelio-candelaria-organics/
LOCATION:Cornelio Candelaria Organics\, 505 Foothill Dr SW\, Albuquerque\, NM\, 87122\, United States
END:VEVENT
END:VCALENDAR